BEGIN:VCALENDAR
VERSION:2.0
PRODID:-//* - ECPv6.15.10//NONSGML v1.0//EN
CALSCALE:GREGORIAN
METHOD:PUBLISH
X-ORIGINAL-URL:http://kofc3580.org
X-WR-CALDESC:Events for *
REFRESH-INTERVAL;VALUE=DURATION:PT1H
X-Robots-Tag:noindex
X-PUBLISHED-TTL:PT1H
BEGIN:VTIMEZONE
TZID:America/New_York
BEGIN:DAYLIGHT
TZOFFSETFROM:-0500
TZOFFSETTO:-0400
TZNAME:EDT
DTSTART:20190310T070000
END:DAYLIGHT
BEGIN:STANDARD
TZOFFSETFROM:-0400
TZOFFSETTO:-0500
TZNAME:EST
DTSTART:20191103T060000
END:STANDARD
BEGIN:DAYLIGHT
TZOFFSETFROM:-0500
TZOFFSETTO:-0400
TZNAME:EDT
DTSTART:20200308T070000
END:DAYLIGHT
BEGIN:STANDARD
TZOFFSETFROM:-0400
TZOFFSETTO:-0500
TZNAME:EST
DTSTART:20201101T060000
END:STANDARD
BEGIN:DAYLIGHT
TZOFFSETFROM:-0500
TZOFFSETTO:-0400
TZNAME:EDT
DTSTART:20210314T070000
END:DAYLIGHT
BEGIN:STANDARD
TZOFFSETFROM:-0400
TZOFFSETTO:-0500
TZNAME:EST
DTSTART:20211107T060000
END:STANDARD
BEGIN:DAYLIGHT
TZOFFSETFROM:-0500
TZOFFSETTO:-0400
TZNAME:EDT
DTSTART:20220313T070000
END:DAYLIGHT
BEGIN:STANDARD
TZOFFSETFROM:-0400
TZOFFSETTO:-0500
TZNAME:EST
DTSTART:20221106T060000
END:STANDARD
BEGIN:DAYLIGHT
TZOFFSETFROM:-0500
TZOFFSETTO:-0400
TZNAME:EDT
DTSTART:20230312T070000
END:DAYLIGHT
BEGIN:STANDARD
TZOFFSETFROM:-0400
TZOFFSETTO:-0500
TZNAME:EST
DTSTART:20231105T060000
END:STANDARD
END:VTIMEZONE
BEGIN:VEVENT
DTSTART;TZID=America/New_York:20221006T190000
DTEND;TZID=America/New_York:20221006T210000
DTSTAMP:20260419T092336
CREATED:20160623T115922Z
LAST-MODIFIED:20230722T151626Z
UID:10000005-1665082800-1665090000@kofc3580.org
SUMMARY:Council Meeting
DESCRIPTION:Knights\, come join your brothers on the first Thursday of each month at 6:30pm. Please join us in the JF room to say the Rosary\, meeting starts a 7:00pm. Email with meeting details will be sent prior to meeting
URL:http://kofc3580.org/event/council-meeting/2022-10-06/
LOCATION:Light of Christ Catholic Church\, 2176 Marilyn Street\, Clearwater\, FL\, 33765\, United States
GEO:27.9722688;-82.7476943
X-APPLE-STRUCTURED-LOCATION;VALUE=URI;X-ADDRESS=Light of Christ Catholic Church 2176 Marilyn Street Clearwater FL 33765 United States;X-APPLE-RADIUS=500;X-TITLE=2176 Marilyn Street:geo:-82.7476943,27.9722688
END:VEVENT
BEGIN:VEVENT
DTSTART;TZID=America/New_York:20220915T190000
DTEND;TZID=America/New_York:20220915T210000
DTSTAMP:20260419T092336
CREATED:20170302T181621Z
LAST-MODIFIED:20230722T151900Z
UID:10000081-1663268400-1663275600@kofc3580.org
SUMMARY:Officers Meeting
DESCRIPTION:Email with meeting details will be sent prior to meeting
URL:http://kofc3580.org/event/officers-meeting/2022-09-15/
LOCATION:Light of Christ Catholic Church\, 2176 Marilyn Street\, Clearwater\, FL\, 33765\, United States
GEO:27.9722688;-82.7476943
X-APPLE-STRUCTURED-LOCATION;VALUE=URI;X-ADDRESS=Light of Christ Catholic Church 2176 Marilyn Street Clearwater FL 33765 United States;X-APPLE-RADIUS=500;X-TITLE=2176 Marilyn Street:geo:-82.7476943,27.9722688
END:VEVENT
BEGIN:VEVENT
DTSTART;TZID=America/New_York:20220901T190000
DTEND;TZID=America/New_York:20220901T210000
DTSTAMP:20260419T092336
CREATED:20160623T115922Z
LAST-MODIFIED:20230722T151626Z
UID:10000004-1662058800-1662066000@kofc3580.org
SUMMARY:Council Meeting
DESCRIPTION:Knights\, come join your brothers on the first Thursday of each month at 6:30pm. Please join us in the JF room to say the Rosary\, meeting starts a 7:00pm. Email with meeting details will be sent prior to meeting
URL:http://kofc3580.org/event/council-meeting/2022-09-01/
LOCATION:Light of Christ Catholic Church\, 2176 Marilyn Street\, Clearwater\, FL\, 33765\, United States
GEO:27.9722688;-82.7476943
X-APPLE-STRUCTURED-LOCATION;VALUE=URI;X-ADDRESS=Light of Christ Catholic Church 2176 Marilyn Street Clearwater FL 33765 United States;X-APPLE-RADIUS=500;X-TITLE=2176 Marilyn Street:geo:-82.7476943,27.9722688
END:VEVENT
BEGIN:VEVENT
DTSTART;TZID=America/New_York:20220818T190000
DTEND;TZID=America/New_York:20220818T210000
DTSTAMP:20260419T092336
CREATED:20170302T181621Z
LAST-MODIFIED:20230722T151900Z
UID:10000080-1660849200-1660856400@kofc3580.org
SUMMARY:Officers Meeting
DESCRIPTION:Email with meeting details will be sent prior to meeting
URL:http://kofc3580.org/event/officers-meeting/2022-08-18/
LOCATION:Light of Christ Catholic Church\, 2176 Marilyn Street\, Clearwater\, FL\, 33765\, United States
GEO:27.9722688;-82.7476943
X-APPLE-STRUCTURED-LOCATION;VALUE=URI;X-ADDRESS=Light of Christ Catholic Church 2176 Marilyn Street Clearwater FL 33765 United States;X-APPLE-RADIUS=500;X-TITLE=2176 Marilyn Street:geo:-82.7476943,27.9722688
END:VEVENT
BEGIN:VEVENT
DTSTART;TZID=America/New_York:20220804T190000
DTEND;TZID=America/New_York:20220804T210000
DTSTAMP:20260419T092336
CREATED:20160623T115922Z
LAST-MODIFIED:20230722T151626Z
UID:10000003-1659639600-1659646800@kofc3580.org
SUMMARY:Council Meeting
DESCRIPTION:Knights\, come join your brothers on the first Thursday of each month at 6:30pm. Please join us in the JF room to say the Rosary\, meeting starts a 7:00pm. Email with meeting details will be sent prior to meeting
URL:http://kofc3580.org/event/council-meeting/2022-08-04/
LOCATION:Light of Christ Catholic Church\, 2176 Marilyn Street\, Clearwater\, FL\, 33765\, United States
GEO:27.9722688;-82.7476943
X-APPLE-STRUCTURED-LOCATION;VALUE=URI;X-ADDRESS=Light of Christ Catholic Church 2176 Marilyn Street Clearwater FL 33765 United States;X-APPLE-RADIUS=500;X-TITLE=2176 Marilyn Street:geo:-82.7476943,27.9722688
END:VEVENT
BEGIN:VEVENT
DTSTART;TZID=America/New_York:20220803T190000
DTEND;TZID=America/New_York:20220803T210000
DTSTAMP:20260419T092336
CREATED:20160623T115922Z
LAST-MODIFIED:20230722T151626Z
UID:10000002-1659553200-1659560400@kofc3580.org
SUMMARY:Council Meeting
DESCRIPTION:Knights\, come join your brothers on the first Thursday of each month at 6:30pm. Please join us in the JF room to say the Rosary\, meeting starts a 7:00pm. Email with meeting details will be sent prior to meeting
URL:http://kofc3580.org/event/council-meeting/2022-08-03/
LOCATION:Light of Christ Catholic Church\, 2176 Marilyn Street\, Clearwater\, FL\, 33765\, United States
GEO:27.9722688;-82.7476943
X-APPLE-STRUCTURED-LOCATION;VALUE=URI;X-ADDRESS=Light of Christ Catholic Church 2176 Marilyn Street Clearwater FL 33765 United States;X-APPLE-RADIUS=500;X-TITLE=2176 Marilyn Street:geo:-82.7476943,27.9722688
END:VEVENT
BEGIN:VEVENT
DTSTART;TZID=America/New_York:20220721T190000
DTEND;TZID=America/New_York:20220721T210000
DTSTAMP:20260419T092336
CREATED:20170302T181621Z
LAST-MODIFIED:20230722T151900Z
UID:10000079-1658430000-1658437200@kofc3580.org
SUMMARY:Officers Meeting
DESCRIPTION:Email with meeting details will be sent prior to meeting
URL:http://kofc3580.org/event/officers-meeting/2022-07-21/
LOCATION:Light of Christ Catholic Church\, 2176 Marilyn Street\, Clearwater\, FL\, 33765\, United States
GEO:27.9722688;-82.7476943
X-APPLE-STRUCTURED-LOCATION;VALUE=URI;X-ADDRESS=Light of Christ Catholic Church 2176 Marilyn Street Clearwater FL 33765 United States;X-APPLE-RADIUS=500;X-TITLE=2176 Marilyn Street:geo:-82.7476943,27.9722688
END:VEVENT
BEGIN:VEVENT
DTSTART;TZID=America/New_York:20220616T190000
DTEND;TZID=America/New_York:20220616T210000
DTSTAMP:20260419T092336
CREATED:20170302T181621Z
LAST-MODIFIED:20230722T151900Z
UID:10000078-1655406000-1655413200@kofc3580.org
SUMMARY:Officers Meeting
DESCRIPTION:Email with meeting details will be sent prior to meeting
URL:http://kofc3580.org/event/officers-meeting/2022-06-16/
LOCATION:Light of Christ Catholic Church\, 2176 Marilyn Street\, Clearwater\, FL\, 33765\, United States
GEO:27.9722688;-82.7476943
X-APPLE-STRUCTURED-LOCATION;VALUE=URI;X-ADDRESS=Light of Christ Catholic Church 2176 Marilyn Street Clearwater FL 33765 United States;X-APPLE-RADIUS=500;X-TITLE=2176 Marilyn Street:geo:-82.7476943,27.9722688
END:VEVENT
BEGIN:VEVENT
DTSTART;TZID=America/New_York:20220608T091500
DTEND;TZID=America/New_York:20220608T103000
DTSTAMP:20260419T092336
CREATED:20220412T190506Z
LAST-MODIFIED:20220412T190645Z
UID:10000026-1654679700-1654684200@kofc3580.org
SUMMARY:The Creed
DESCRIPTION:The Creed – In support of growing our faith at Light of Christ\, we are offering a course on the Nicene Creed. The keys that unlock the beliefs of the Christian Faith are stated succinctly in the Nicene Creed\, which we pray at every Sunday Mass. Born at the Council of Nicaea in the Fourth Century after intense debates\, this formal statement of faith is the foundation of both Eastern and Western Christianity. Please join us as we explore The Creed presented in a series of videos by Bishop Robert Barron. Session begin (Wednesday) April 27. TO REGISTER – CLICK HERE
URL:http://kofc3580.org/event/the-creed/2022-06-08/
LOCATION:Light of Christ Catholic Church\, 2176 Marilyn Street\, Clearwater\, FL\, 33765\, United States
GEO:27.9722688;-82.7476943
X-APPLE-STRUCTURED-LOCATION;VALUE=URI;X-ADDRESS=Light of Christ Catholic Church 2176 Marilyn Street Clearwater FL 33765 United States;X-APPLE-RADIUS=500;X-TITLE=2176 Marilyn Street:geo:-82.7476943,27.9722688
END:VEVENT
BEGIN:VEVENT
DTSTART;TZID=America/New_York:20220601T091500
DTEND;TZID=America/New_York:20220601T103000
DTSTAMP:20260419T092336
CREATED:20220412T190506Z
LAST-MODIFIED:20220412T190645Z
UID:10000025-1654074900-1654079400@kofc3580.org
SUMMARY:The Creed
DESCRIPTION:The Creed – In support of growing our faith at Light of Christ\, we are offering a course on the Nicene Creed. The keys that unlock the beliefs of the Christian Faith are stated succinctly in the Nicene Creed\, which we pray at every Sunday Mass. Born at the Council of Nicaea in the Fourth Century after intense debates\, this formal statement of faith is the foundation of both Eastern and Western Christianity. Please join us as we explore The Creed presented in a series of videos by Bishop Robert Barron. Session begin (Wednesday) April 27. TO REGISTER – CLICK HERE
URL:http://kofc3580.org/event/the-creed/2022-06-01/
LOCATION:Light of Christ Catholic Church\, 2176 Marilyn Street\, Clearwater\, FL\, 33765\, United States
GEO:27.9722688;-82.7476943
X-APPLE-STRUCTURED-LOCATION;VALUE=URI;X-ADDRESS=Light of Christ Catholic Church 2176 Marilyn Street Clearwater FL 33765 United States;X-APPLE-RADIUS=500;X-TITLE=2176 Marilyn Street:geo:-82.7476943,27.9722688
END:VEVENT
BEGIN:VEVENT
DTSTART;TZID=America/New_York:20220525T091500
DTEND;TZID=America/New_York:20220525T103000
DTSTAMP:20260419T092336
CREATED:20220412T190506Z
LAST-MODIFIED:20220412T190645Z
UID:10000024-1653470100-1653474600@kofc3580.org
SUMMARY:The Creed
DESCRIPTION:The Creed – In support of growing our faith at Light of Christ\, we are offering a course on the Nicene Creed. The keys that unlock the beliefs of the Christian Faith are stated succinctly in the Nicene Creed\, which we pray at every Sunday Mass. Born at the Council of Nicaea in the Fourth Century after intense debates\, this formal statement of faith is the foundation of both Eastern and Western Christianity. Please join us as we explore The Creed presented in a series of videos by Bishop Robert Barron. Session begin (Wednesday) April 27. TO REGISTER – CLICK HERE
URL:http://kofc3580.org/event/the-creed/2022-05-25/
LOCATION:Light of Christ Catholic Church\, 2176 Marilyn Street\, Clearwater\, FL\, 33765\, United States
GEO:27.9722688;-82.7476943
X-APPLE-STRUCTURED-LOCATION;VALUE=URI;X-ADDRESS=Light of Christ Catholic Church 2176 Marilyn Street Clearwater FL 33765 United States;X-APPLE-RADIUS=500;X-TITLE=2176 Marilyn Street:geo:-82.7476943,27.9722688
END:VEVENT
BEGIN:VEVENT
DTSTART;TZID=America/New_York:20220519T190000
DTEND;TZID=America/New_York:20220519T210000
DTSTAMP:20260419T092336
CREATED:20170302T181621Z
LAST-MODIFIED:20230722T151900Z
UID:10000077-1652986800-1652994000@kofc3580.org
SUMMARY:Officers Meeting
DESCRIPTION:Email with meeting details will be sent prior to meeting
URL:http://kofc3580.org/event/officers-meeting/2022-05-19/
LOCATION:Light of Christ Catholic Church\, 2176 Marilyn Street\, Clearwater\, FL\, 33765\, United States
GEO:27.9722688;-82.7476943
X-APPLE-STRUCTURED-LOCATION;VALUE=URI;X-ADDRESS=Light of Christ Catholic Church 2176 Marilyn Street Clearwater FL 33765 United States;X-APPLE-RADIUS=500;X-TITLE=2176 Marilyn Street:geo:-82.7476943,27.9722688
END:VEVENT
BEGIN:VEVENT
DTSTART;TZID=America/New_York:20220518T091500
DTEND;TZID=America/New_York:20220518T103000
DTSTAMP:20260419T092336
CREATED:20220412T190506Z
LAST-MODIFIED:20220412T190645Z
UID:10000023-1652865300-1652869800@kofc3580.org
SUMMARY:The Creed
DESCRIPTION:The Creed – In support of growing our faith at Light of Christ\, we are offering a course on the Nicene Creed. The keys that unlock the beliefs of the Christian Faith are stated succinctly in the Nicene Creed\, which we pray at every Sunday Mass. Born at the Council of Nicaea in the Fourth Century after intense debates\, this formal statement of faith is the foundation of both Eastern and Western Christianity. Please join us as we explore The Creed presented in a series of videos by Bishop Robert Barron. Session begin (Wednesday) April 27. TO REGISTER – CLICK HERE
URL:http://kofc3580.org/event/the-creed/2022-05-18/
LOCATION:Light of Christ Catholic Church\, 2176 Marilyn Street\, Clearwater\, FL\, 33765\, United States
GEO:27.9722688;-82.7476943
X-APPLE-STRUCTURED-LOCATION;VALUE=URI;X-ADDRESS=Light of Christ Catholic Church 2176 Marilyn Street Clearwater FL 33765 United States;X-APPLE-RADIUS=500;X-TITLE=2176 Marilyn Street:geo:-82.7476943,27.9722688
END:VEVENT
BEGIN:VEVENT
DTSTART;TZID=America/New_York:20220511T091500
DTEND;TZID=America/New_York:20220511T103000
DTSTAMP:20260419T092336
CREATED:20220412T190506Z
LAST-MODIFIED:20220412T190645Z
UID:10000022-1652260500-1652265000@kofc3580.org
SUMMARY:The Creed
DESCRIPTION:The Creed – In support of growing our faith at Light of Christ\, we are offering a course on the Nicene Creed. The keys that unlock the beliefs of the Christian Faith are stated succinctly in the Nicene Creed\, which we pray at every Sunday Mass. Born at the Council of Nicaea in the Fourth Century after intense debates\, this formal statement of faith is the foundation of both Eastern and Western Christianity. Please join us as we explore The Creed presented in a series of videos by Bishop Robert Barron. Session begin (Wednesday) April 27. TO REGISTER – CLICK HERE
URL:http://kofc3580.org/event/the-creed/2022-05-11/
LOCATION:Light of Christ Catholic Church\, 2176 Marilyn Street\, Clearwater\, FL\, 33765\, United States
GEO:27.9722688;-82.7476943
X-APPLE-STRUCTURED-LOCATION;VALUE=URI;X-ADDRESS=Light of Christ Catholic Church 2176 Marilyn Street Clearwater FL 33765 United States;X-APPLE-RADIUS=500;X-TITLE=2176 Marilyn Street:geo:-82.7476943,27.9722688
END:VEVENT
BEGIN:VEVENT
DTSTART;TZID=America/New_York:20220504T091500
DTEND;TZID=America/New_York:20220504T103000
DTSTAMP:20260419T092336
CREATED:20220412T190506Z
LAST-MODIFIED:20220412T190645Z
UID:10000021-1651655700-1651660200@kofc3580.org
SUMMARY:The Creed
DESCRIPTION:The Creed – In support of growing our faith at Light of Christ\, we are offering a course on the Nicene Creed. The keys that unlock the beliefs of the Christian Faith are stated succinctly in the Nicene Creed\, which we pray at every Sunday Mass. Born at the Council of Nicaea in the Fourth Century after intense debates\, this formal statement of faith is the foundation of both Eastern and Western Christianity. Please join us as we explore The Creed presented in a series of videos by Bishop Robert Barron. Session begin (Wednesday) April 27. TO REGISTER – CLICK HERE
URL:http://kofc3580.org/event/the-creed/2022-05-04/
LOCATION:Light of Christ Catholic Church\, 2176 Marilyn Street\, Clearwater\, FL\, 33765\, United States
GEO:27.9722688;-82.7476943
X-APPLE-STRUCTURED-LOCATION;VALUE=URI;X-ADDRESS=Light of Christ Catholic Church 2176 Marilyn Street Clearwater FL 33765 United States;X-APPLE-RADIUS=500;X-TITLE=2176 Marilyn Street:geo:-82.7476943,27.9722688
END:VEVENT
BEGIN:VEVENT
DTSTART;TZID=America/New_York:20220427T091500
DTEND;TZID=America/New_York:20220427T103000
DTSTAMP:20260419T092336
CREATED:20220412T190506Z
LAST-MODIFIED:20220412T190645Z
UID:10000020-1651050900-1651055400@kofc3580.org
SUMMARY:The Creed
DESCRIPTION:The Creed – In support of growing our faith at Light of Christ\, we are offering a course on the Nicene Creed. The keys that unlock the beliefs of the Christian Faith are stated succinctly in the Nicene Creed\, which we pray at every Sunday Mass. Born at the Council of Nicaea in the Fourth Century after intense debates\, this formal statement of faith is the foundation of both Eastern and Western Christianity. Please join us as we explore The Creed presented in a series of videos by Bishop Robert Barron. Session begin (Wednesday) April 27. TO REGISTER – CLICK HERE
URL:http://kofc3580.org/event/the-creed/2022-04-27/
LOCATION:Light of Christ Catholic Church\, 2176 Marilyn Street\, Clearwater\, FL\, 33765\, United States
GEO:27.9722688;-82.7476943
X-APPLE-STRUCTURED-LOCATION;VALUE=URI;X-ADDRESS=Light of Christ Catholic Church 2176 Marilyn Street Clearwater FL 33765 United States;X-APPLE-RADIUS=500;X-TITLE=2176 Marilyn Street:geo:-82.7476943,27.9722688
END:VEVENT
BEGIN:VEVENT
DTSTART;TZID=America/New_York:20220421T190000
DTEND;TZID=America/New_York:20220421T210000
DTSTAMP:20260419T092336
CREATED:20170302T181621Z
LAST-MODIFIED:20230722T151900Z
UID:10000076-1650567600-1650574800@kofc3580.org
SUMMARY:Officers Meeting
DESCRIPTION:Email with meeting details will be sent prior to meeting
URL:http://kofc3580.org/event/officers-meeting/2022-04-21/
LOCATION:Light of Christ Catholic Church\, 2176 Marilyn Street\, Clearwater\, FL\, 33765\, United States
GEO:27.9722688;-82.7476943
X-APPLE-STRUCTURED-LOCATION;VALUE=URI;X-ADDRESS=Light of Christ Catholic Church 2176 Marilyn Street Clearwater FL 33765 United States;X-APPLE-RADIUS=500;X-TITLE=2176 Marilyn Street:geo:-82.7476943,27.9722688
END:VEVENT
BEGIN:VEVENT
DTSTART;TZID=America/New_York:20220317T190000
DTEND;TZID=America/New_York:20220317T210000
DTSTAMP:20260419T092336
CREATED:20170302T181621Z
LAST-MODIFIED:20230722T151900Z
UID:10000075-1647543600-1647550800@kofc3580.org
SUMMARY:Officers Meeting
DESCRIPTION:Email with meeting details will be sent prior to meeting
URL:http://kofc3580.org/event/officers-meeting/2022-03-17/
LOCATION:Light of Christ Catholic Church\, 2176 Marilyn Street\, Clearwater\, FL\, 33765\, United States
GEO:27.9722688;-82.7476943
X-APPLE-STRUCTURED-LOCATION;VALUE=URI;X-ADDRESS=Light of Christ Catholic Church 2176 Marilyn Street Clearwater FL 33765 United States;X-APPLE-RADIUS=500;X-TITLE=2176 Marilyn Street:geo:-82.7476943,27.9722688
END:VEVENT
BEGIN:VEVENT
DTSTART;TZID=America/New_York:20220217T190000
DTEND;TZID=America/New_York:20220217T210000
DTSTAMP:20260419T092336
CREATED:20170302T181621Z
LAST-MODIFIED:20230722T151900Z
UID:10000074-1645124400-1645131600@kofc3580.org
SUMMARY:Officers Meeting
DESCRIPTION:Email with meeting details will be sent prior to meeting
URL:http://kofc3580.org/event/officers-meeting/2022-02-17/
LOCATION:Light of Christ Catholic Church\, 2176 Marilyn Street\, Clearwater\, FL\, 33765\, United States
GEO:27.9722688;-82.7476943
X-APPLE-STRUCTURED-LOCATION;VALUE=URI;X-ADDRESS=Light of Christ Catholic Church 2176 Marilyn Street Clearwater FL 33765 United States;X-APPLE-RADIUS=500;X-TITLE=2176 Marilyn Street:geo:-82.7476943,27.9722688
END:VEVENT
BEGIN:VEVENT
DTSTART;TZID=America/New_York:20220120T190000
DTEND;TZID=America/New_York:20220120T210000
DTSTAMP:20260419T092336
CREATED:20170302T181621Z
LAST-MODIFIED:20230722T151900Z
UID:10000073-1642705200-1642712400@kofc3580.org
SUMMARY:Officers Meeting
DESCRIPTION:Email with meeting details will be sent prior to meeting
URL:http://kofc3580.org/event/officers-meeting/2022-01-20/
LOCATION:Light of Christ Catholic Church\, 2176 Marilyn Street\, Clearwater\, FL\, 33765\, United States
GEO:27.9722688;-82.7476943
X-APPLE-STRUCTURED-LOCATION;VALUE=URI;X-ADDRESS=Light of Christ Catholic Church 2176 Marilyn Street Clearwater FL 33765 United States;X-APPLE-RADIUS=500;X-TITLE=2176 Marilyn Street:geo:-82.7476943,27.9722688
END:VEVENT
BEGIN:VEVENT
DTSTART;TZID=America/New_York:20211216T190000
DTEND;TZID=America/New_York:20211216T210000
DTSTAMP:20260419T092336
CREATED:20170302T181621Z
LAST-MODIFIED:20230722T151900Z
UID:10000072-1639681200-1639688400@kofc3580.org
SUMMARY:Officers Meeting
DESCRIPTION:Email with meeting details will be sent prior to meeting
URL:http://kofc3580.org/event/officers-meeting/2021-12-16/
LOCATION:Light of Christ Catholic Church\, 2176 Marilyn Street\, Clearwater\, FL\, 33765\, United States
GEO:27.9722688;-82.7476943
X-APPLE-STRUCTURED-LOCATION;VALUE=URI;X-ADDRESS=Light of Christ Catholic Church 2176 Marilyn Street Clearwater FL 33765 United States;X-APPLE-RADIUS=500;X-TITLE=2176 Marilyn Street:geo:-82.7476943,27.9722688
END:VEVENT
BEGIN:VEVENT
DTSTART;TZID=America/New_York:20211118T190000
DTEND;TZID=America/New_York:20211118T210000
DTSTAMP:20260419T092336
CREATED:20170302T181621Z
LAST-MODIFIED:20230722T151900Z
UID:10000071-1637262000-1637269200@kofc3580.org
SUMMARY:Officers Meeting
DESCRIPTION:Email with meeting details will be sent prior to meeting
URL:http://kofc3580.org/event/officers-meeting/2021-11-18/
LOCATION:Light of Christ Catholic Church\, 2176 Marilyn Street\, Clearwater\, FL\, 33765\, United States
GEO:27.9722688;-82.7476943
X-APPLE-STRUCTURED-LOCATION;VALUE=URI;X-ADDRESS=Light of Christ Catholic Church 2176 Marilyn Street Clearwater FL 33765 United States;X-APPLE-RADIUS=500;X-TITLE=2176 Marilyn Street:geo:-82.7476943,27.9722688
END:VEVENT
BEGIN:VEVENT
DTSTART;TZID=America/New_York:20211021T190000
DTEND;TZID=America/New_York:20211021T210000
DTSTAMP:20260419T092336
CREATED:20170302T181621Z
LAST-MODIFIED:20230722T151900Z
UID:10000070-1634842800-1634850000@kofc3580.org
SUMMARY:Officers Meeting
DESCRIPTION:Email with meeting details will be sent prior to meeting
URL:http://kofc3580.org/event/officers-meeting/2021-10-21/
LOCATION:Light of Christ Catholic Church\, 2176 Marilyn Street\, Clearwater\, FL\, 33765\, United States
GEO:27.9722688;-82.7476943
X-APPLE-STRUCTURED-LOCATION;VALUE=URI;X-ADDRESS=Light of Christ Catholic Church 2176 Marilyn Street Clearwater FL 33765 United States;X-APPLE-RADIUS=500;X-TITLE=2176 Marilyn Street:geo:-82.7476943,27.9722688
END:VEVENT
BEGIN:VEVENT
DTSTART;TZID=America/New_York:20210916T190000
DTEND;TZID=America/New_York:20210916T210000
DTSTAMP:20260419T092336
CREATED:20170302T181621Z
LAST-MODIFIED:20230722T151900Z
UID:10000069-1631818800-1631826000@kofc3580.org
SUMMARY:Officers Meeting
DESCRIPTION:Email with meeting details will be sent prior to meeting
URL:http://kofc3580.org/event/officers-meeting/2021-09-16/
LOCATION:Light of Christ Catholic Church\, 2176 Marilyn Street\, Clearwater\, FL\, 33765\, United States
GEO:27.9722688;-82.7476943
X-APPLE-STRUCTURED-LOCATION;VALUE=URI;X-ADDRESS=Light of Christ Catholic Church 2176 Marilyn Street Clearwater FL 33765 United States;X-APPLE-RADIUS=500;X-TITLE=2176 Marilyn Street:geo:-82.7476943,27.9722688
END:VEVENT
BEGIN:VEVENT
DTSTART;TZID=America/New_York:20210819T190000
DTEND;TZID=America/New_York:20210819T210000
DTSTAMP:20260419T092336
CREATED:20170302T181621Z
LAST-MODIFIED:20230722T151900Z
UID:10000068-1629399600-1629406800@kofc3580.org
SUMMARY:Officers Meeting
DESCRIPTION:Email with meeting details will be sent prior to meeting
URL:http://kofc3580.org/event/officers-meeting/2021-08-19/
LOCATION:Light of Christ Catholic Church\, 2176 Marilyn Street\, Clearwater\, FL\, 33765\, United States
GEO:27.9722688;-82.7476943
X-APPLE-STRUCTURED-LOCATION;VALUE=URI;X-ADDRESS=Light of Christ Catholic Church 2176 Marilyn Street Clearwater FL 33765 United States;X-APPLE-RADIUS=500;X-TITLE=2176 Marilyn Street:geo:-82.7476943,27.9722688
END:VEVENT
BEGIN:VEVENT
DTSTART;TZID=America/New_York:20210715T190000
DTEND;TZID=America/New_York:20210715T210000
DTSTAMP:20260419T092336
CREATED:20170302T181621Z
LAST-MODIFIED:20230722T151900Z
UID:10000067-1626375600-1626382800@kofc3580.org
SUMMARY:Officers Meeting
DESCRIPTION:Email with meeting details will be sent prior to meeting
URL:http://kofc3580.org/event/officers-meeting/2021-07-15/
LOCATION:Light of Christ Catholic Church\, 2176 Marilyn Street\, Clearwater\, FL\, 33765\, United States
GEO:27.9722688;-82.7476943
X-APPLE-STRUCTURED-LOCATION;VALUE=URI;X-ADDRESS=Light of Christ Catholic Church 2176 Marilyn Street Clearwater FL 33765 United States;X-APPLE-RADIUS=500;X-TITLE=2176 Marilyn Street:geo:-82.7476943,27.9722688
END:VEVENT
BEGIN:VEVENT
DTSTART;TZID=America/New_York:20210617T190000
DTEND;TZID=America/New_York:20210617T210000
DTSTAMP:20260419T092336
CREATED:20170302T181621Z
LAST-MODIFIED:20230722T151900Z
UID:10000066-1623956400-1623963600@kofc3580.org
SUMMARY:Officers Meeting
DESCRIPTION:Email with meeting details will be sent prior to meeting
URL:http://kofc3580.org/event/officers-meeting/2021-06-17/
LOCATION:Light of Christ Catholic Church\, 2176 Marilyn Street\, Clearwater\, FL\, 33765\, United States
GEO:27.9722688;-82.7476943
X-APPLE-STRUCTURED-LOCATION;VALUE=URI;X-ADDRESS=Light of Christ Catholic Church 2176 Marilyn Street Clearwater FL 33765 United States;X-APPLE-RADIUS=500;X-TITLE=2176 Marilyn Street:geo:-82.7476943,27.9722688
END:VEVENT
BEGIN:VEVENT
DTSTART;TZID=America/New_York:20210601T190000
DTEND;TZID=America/New_York:20210601T210000
DTSTAMP:20260419T092336
CREATED:20170302T181621Z
LAST-MODIFIED:20230722T151900Z
UID:10000065-1622574000-1622581200@kofc3580.org
SUMMARY:Officers Meeting
DESCRIPTION:Email with meeting details will be sent prior to meeting
URL:http://kofc3580.org/event/officers-meeting/2021-06-01/
LOCATION:Light of Christ Catholic Church\, 2176 Marilyn Street\, Clearwater\, FL\, 33765\, United States
GEO:27.9722688;-82.7476943
X-APPLE-STRUCTURED-LOCATION;VALUE=URI;X-ADDRESS=Light of Christ Catholic Church 2176 Marilyn Street Clearwater FL 33765 United States;X-APPLE-RADIUS=500;X-TITLE=2176 Marilyn Street:geo:-82.7476943,27.9722688
END:VEVENT
BEGIN:VEVENT
DTSTART;TZID=America/New_York:20200603T114500
DTEND;TZID=America/New_York:20200603T130000
DTSTAMP:20260419T092336
CREATED:20170221T173811Z
LAST-MODIFIED:20190728T165430Z
UID:10000064-1591184700-1591189200@kofc3580.org
SUMMARY:Council 3580 First Wednesday Masses
DESCRIPTION:Come join with your brothers in celebration of the Holy Eucharist the first Wednesday of each month at the 12:15pm Mass. Please come early to say the Rosary at 11:45am. Also\, due check in as we may need Extraordinary Ministers of the Eucharist\, Lector\, and Servers to assist in the Mass. A gentle remember the dress code for the Masses will be appropriate knights apparel e.g. shirts or similar polo casual shirts. Please no shorts\, sandals\, tank tops\, etc.
URL:http://kofc3580.org/event/council-3580-first-wednesday-masses/2020-06-03/
LOCATION:Light of Christ Catholic Church\, 2176 Marilyn Street\, Clearwater\, FL\, 33765\, United States
GEO:27.9722688;-82.7476943
X-APPLE-STRUCTURED-LOCATION;VALUE=URI;X-ADDRESS=Light of Christ Catholic Church 2176 Marilyn Street Clearwater FL 33765 United States;X-APPLE-RADIUS=500;X-TITLE=2176 Marilyn Street:geo:-82.7476943,27.9722688
END:VEVENT
BEGIN:VEVENT
DTSTART;TZID=America/New_York:20200506T114500
DTEND;TZID=America/New_York:20200506T130000
DTSTAMP:20260419T092336
CREATED:20170221T173811Z
LAST-MODIFIED:20190728T165430Z
UID:10000063-1588765500-1588770000@kofc3580.org
SUMMARY:Council 3580 First Wednesday Masses
DESCRIPTION:Come join with your brothers in celebration of the Holy Eucharist the first Wednesday of each month at the 12:15pm Mass. Please come early to say the Rosary at 11:45am. Also\, due check in as we may need Extraordinary Ministers of the Eucharist\, Lector\, and Servers to assist in the Mass. A gentle remember the dress code for the Masses will be appropriate knights apparel e.g. shirts or similar polo casual shirts. Please no shorts\, sandals\, tank tops\, etc.
URL:http://kofc3580.org/event/council-3580-first-wednesday-masses/2020-05-06/
LOCATION:Light of Christ Catholic Church\, 2176 Marilyn Street\, Clearwater\, FL\, 33765\, United States
GEO:27.9722688;-82.7476943
X-APPLE-STRUCTURED-LOCATION;VALUE=URI;X-ADDRESS=Light of Christ Catholic Church 2176 Marilyn Street Clearwater FL 33765 United States;X-APPLE-RADIUS=500;X-TITLE=2176 Marilyn Street:geo:-82.7476943,27.9722688
END:VEVENT
END:VCALENDAR