BEGIN:VCALENDAR
VERSION:2.0
PRODID:-//* - ECPv6.15.10//NONSGML v1.0//EN
CALSCALE:GREGORIAN
METHOD:PUBLISH
X-ORIGINAL-URL:http://kofc3580.org
X-WR-CALDESC:Events for *
REFRESH-INTERVAL;VALUE=DURATION:PT1H
X-Robots-Tag:noindex
X-PUBLISHED-TTL:PT1H
BEGIN:VTIMEZONE
TZID:America/New_York
BEGIN:DAYLIGHT
TZOFFSETFROM:-0500
TZOFFSETTO:-0400
TZNAME:EDT
DTSTART:20180311T070000
END:DAYLIGHT
BEGIN:STANDARD
TZOFFSETFROM:-0400
TZOFFSETTO:-0500
TZNAME:EST
DTSTART:20181104T060000
END:STANDARD
BEGIN:DAYLIGHT
TZOFFSETFROM:-0500
TZOFFSETTO:-0400
TZNAME:EDT
DTSTART:20190310T070000
END:DAYLIGHT
BEGIN:STANDARD
TZOFFSETFROM:-0400
TZOFFSETTO:-0500
TZNAME:EST
DTSTART:20191103T060000
END:STANDARD
BEGIN:DAYLIGHT
TZOFFSETFROM:-0500
TZOFFSETTO:-0400
TZNAME:EDT
DTSTART:20200308T070000
END:DAYLIGHT
BEGIN:STANDARD
TZOFFSETFROM:-0400
TZOFFSETTO:-0500
TZNAME:EST
DTSTART:20201101T060000
END:STANDARD
END:VTIMEZONE
BEGIN:VEVENT
DTSTART;TZID=America/New_York:20191012T070000
DTEND;TZID=America/New_York:20191012T140000
DTSTAMP:20260422T090515
CREATED:20160826T173819Z
LAST-MODIFIED:20190728T170410Z
UID:10000053-1570863600-1570888800@kofc3580.org
SUMMARY:Light of Christ’s 22nd Annual Monsignor Allman Golf Classic - October 12\, 2019
DESCRIPTION:Saturday\, October 12\, 2019\, 7:00am \nCove Cay Golf Club \n$90 per person or $300 as a foursome (save $60!!) \nVisit our Golf page
URL:http://kofc3580.org/event/light-of-christs-19th-annual-monsignor-allman-golf-classic-october-15-2016/
LOCATION:Cove Cay Golf Club\, 2612 Cove Cay Dr.\, Clearwater\, FL\, 33760\, United States
GEO:27.9335059;-82.7224004
X-APPLE-STRUCTURED-LOCATION;VALUE=URI;X-ADDRESS=Cove Cay Golf Club 2612 Cove Cay Dr. Clearwater FL 33760 United States;X-APPLE-RADIUS=500;X-TITLE=2612 Cove Cay Dr.:geo:-82.7224004,27.9335059
END:VEVENT
END:VCALENDAR