BEGIN:VCALENDAR
VERSION:2.0
PRODID:-//* - ECPv6.15.10//NONSGML v1.0//EN
CALSCALE:GREGORIAN
METHOD:PUBLISH
X-ORIGINAL-URL:http://kofc3580.org
X-WR-CALDESC:Events for *
REFRESH-INTERVAL;VALUE=DURATION:PT1H
X-Robots-Tag:noindex
X-PUBLISHED-TTL:PT1H
BEGIN:VTIMEZONE
TZID:America/New_York
BEGIN:DAYLIGHT
TZOFFSETFROM:-0500
TZOFFSETTO:-0400
TZNAME:EDT
DTSTART:20180311T070000
END:DAYLIGHT
BEGIN:STANDARD
TZOFFSETFROM:-0400
TZOFFSETTO:-0500
TZNAME:EST
DTSTART:20181104T060000
END:STANDARD
BEGIN:DAYLIGHT
TZOFFSETFROM:-0500
TZOFFSETTO:-0400
TZNAME:EDT
DTSTART:20190310T070000
END:DAYLIGHT
BEGIN:STANDARD
TZOFFSETFROM:-0400
TZOFFSETTO:-0500
TZNAME:EST
DTSTART:20191103T060000
END:STANDARD
BEGIN:DAYLIGHT
TZOFFSETFROM:-0500
TZOFFSETTO:-0400
TZNAME:EDT
DTSTART:20200308T070000
END:DAYLIGHT
BEGIN:STANDARD
TZOFFSETFROM:-0400
TZOFFSETTO:-0500
TZNAME:EST
DTSTART:20201101T060000
END:STANDARD
END:VTIMEZONE
BEGIN:VEVENT
DTSTART;TZID=America/New_York:20191026T090000
DTEND;TZID=America/New_York:20191026T170000
DTSTAMP:20260422T121937
CREATED:20170825T020018Z
LAST-MODIFIED:20190728T170646Z
UID:10000091-1572080400-1572109200@kofc3580.org
SUMMARY:CCCHS Ford Test Drive
DESCRIPTION: On Saturday\, October 26th\, come to the Clearwater Central Catholic High School campus located at 2750 Haines Bayshore Rd\, Clearwater and test-drive* the freshest lineup of Ford vehicles from Walker Ford. For every test drive taken\, Ford Motor Co. will donate $20 to CCC for a total up to $6000! Thank you for your continued support!  \n*Participants must be 18 years of age or older\, with a valid driver’s license. Does not include test-drives conducted in the Ford Crown Victoria\, E-series\, Lincoln or Mercury vehicles. One donation per household\, $20 per test-drive\, up to 300 test-drives. \n 
URL:http://kofc3580.org/event/ccchs-ford-test-drive/
LOCATION:Clearwater Central Catholic High School\, 2750 Haines Bayshore Road\, Clearwater\, FL\, 33760\, United States
GEO:27.92908;-82.723137
X-APPLE-STRUCTURED-LOCATION;VALUE=URI;X-ADDRESS=Clearwater Central Catholic High School 2750 Haines Bayshore Road Clearwater FL 33760 United States;X-APPLE-RADIUS=500;X-TITLE=2750 Haines Bayshore Road:geo:-82.723137,27.92908
END:VEVENT
END:VCALENDAR