BEGIN:VCALENDAR
VERSION:2.0
PRODID:-//* - ECPv6.15.10//NONSGML v1.0//EN
CALSCALE:GREGORIAN
METHOD:PUBLISH
X-WR-CALNAME:*
X-ORIGINAL-URL:http://kofc3580.org
X-WR-CALDESC:Events for *
REFRESH-INTERVAL;VALUE=DURATION:PT1H
X-Robots-Tag:noindex
X-PUBLISHED-TTL:PT1H
BEGIN:VTIMEZONE
TZID:America/New_York
BEGIN:DAYLIGHT
TZOFFSETFROM:-0500
TZOFFSETTO:-0400
TZNAME:EDT
DTSTART:20210314T070000
END:DAYLIGHT
BEGIN:STANDARD
TZOFFSETFROM:-0400
TZOFFSETTO:-0500
TZNAME:EST
DTSTART:20211107T060000
END:STANDARD
BEGIN:DAYLIGHT
TZOFFSETFROM:-0500
TZOFFSETTO:-0400
TZNAME:EDT
DTSTART:20220313T070000
END:DAYLIGHT
BEGIN:STANDARD
TZOFFSETFROM:-0400
TZOFFSETTO:-0500
TZNAME:EST
DTSTART:20221106T060000
END:STANDARD
BEGIN:DAYLIGHT
TZOFFSETFROM:-0500
TZOFFSETTO:-0400
TZNAME:EDT
DTSTART:20230312T070000
END:DAYLIGHT
BEGIN:STANDARD
TZOFFSETFROM:-0400
TZOFFSETTO:-0500
TZNAME:EST
DTSTART:20231105T060000
END:STANDARD
BEGIN:DAYLIGHT
TZOFFSETFROM:-0500
TZOFFSETTO:-0400
TZNAME:EDT
DTSTART:20240310T070000
END:DAYLIGHT
BEGIN:STANDARD
TZOFFSETFROM:-0400
TZOFFSETTO:-0500
TZNAME:EST
DTSTART:20241103T060000
END:STANDARD
END:VTIMEZONE
BEGIN:VEVENT
DTSTART;TZID=America/New_York:20230706T190000
DTEND;TZID=America/New_York:20230706T210000
DTSTAMP:20260420T032016
CREATED:20160623T115922Z
LAST-MODIFIED:20230722T151626Z
UID:10000112-1688670000-1688677200@kofc3580.org
SUMMARY:Council Meeting
DESCRIPTION:Knights\, come join your brothers on the first Thursday of each month at 6:30pm. Please join us in the JF room to say the Rosary\, meeting starts a 7:00pm. Email with meeting details will be sent prior to meeting
URL:http://kofc3580.org/event/council-meeting/2023-07-06/
LOCATION:Light of Christ Catholic Church\, 2176 Marilyn Street\, Clearwater\, FL\, 33765\, United States
GEO:27.9722688;-82.7476943
X-APPLE-STRUCTURED-LOCATION;VALUE=URI;X-ADDRESS=Light of Christ Catholic Church 2176 Marilyn Street Clearwater FL 33765 United States;X-APPLE-RADIUS=500;X-TITLE=2176 Marilyn Street:geo:-82.7476943,27.9722688
END:VEVENT
BEGIN:VEVENT
DTSTART;TZID=America/New_York:20230615T190000
DTEND;TZID=America/New_York:20230615T210000
DTSTAMP:20260420T032017
CREATED:20170302T181621Z
LAST-MODIFIED:20230722T151900Z
UID:10000090-1686855600-1686862800@kofc3580.org
SUMMARY:Officers Meeting
DESCRIPTION:Email with meeting details will be sent prior to meeting
URL:http://kofc3580.org/event/officers-meeting/2023-06-15/
LOCATION:Light of Christ Catholic Church\, 2176 Marilyn Street\, Clearwater\, FL\, 33765\, United States
GEO:27.9722688;-82.7476943
X-APPLE-STRUCTURED-LOCATION;VALUE=URI;X-ADDRESS=Light of Christ Catholic Church 2176 Marilyn Street Clearwater FL 33765 United States;X-APPLE-RADIUS=500;X-TITLE=2176 Marilyn Street:geo:-82.7476943,27.9722688
END:VEVENT
BEGIN:VEVENT
DTSTART;TZID=America/New_York:20230601T190000
DTEND;TZID=America/New_York:20230601T210000
DTSTAMP:20260420T032017
CREATED:20160623T115922Z
LAST-MODIFIED:20230722T151626Z
UID:10000013-1685646000-1685653200@kofc3580.org
SUMMARY:Council Meeting
DESCRIPTION:Knights\, come join your brothers on the first Thursday of each month at 6:30pm. Please join us in the JF room to say the Rosary\, meeting starts a 7:00pm. Email with meeting details will be sent prior to meeting
URL:http://kofc3580.org/event/council-meeting/2023-06-01/
LOCATION:Light of Christ Catholic Church\, 2176 Marilyn Street\, Clearwater\, FL\, 33765\, United States
GEO:27.9722688;-82.7476943
X-APPLE-STRUCTURED-LOCATION;VALUE=URI;X-ADDRESS=Light of Christ Catholic Church 2176 Marilyn Street Clearwater FL 33765 United States;X-APPLE-RADIUS=500;X-TITLE=2176 Marilyn Street:geo:-82.7476943,27.9722688
END:VEVENT
BEGIN:VEVENT
DTSTART;TZID=America/New_York:20230518T190000
DTEND;TZID=America/New_York:20230518T210000
DTSTAMP:20260420T032017
CREATED:20170302T181621Z
LAST-MODIFIED:20230722T151900Z
UID:10000089-1684436400-1684443600@kofc3580.org
SUMMARY:Officers Meeting
DESCRIPTION:Email with meeting details will be sent prior to meeting
URL:http://kofc3580.org/event/officers-meeting/2023-05-18/
LOCATION:Light of Christ Catholic Church\, 2176 Marilyn Street\, Clearwater\, FL\, 33765\, United States
GEO:27.9722688;-82.7476943
X-APPLE-STRUCTURED-LOCATION;VALUE=URI;X-ADDRESS=Light of Christ Catholic Church 2176 Marilyn Street Clearwater FL 33765 United States;X-APPLE-RADIUS=500;X-TITLE=2176 Marilyn Street:geo:-82.7476943,27.9722688
END:VEVENT
BEGIN:VEVENT
DTSTART;TZID=America/New_York:20230504T190000
DTEND;TZID=America/New_York:20230504T210000
DTSTAMP:20260420T032017
CREATED:20160623T115922Z
LAST-MODIFIED:20230722T151626Z
UID:10000012-1683226800-1683234000@kofc3580.org
SUMMARY:Council Meeting
DESCRIPTION:Knights\, come join your brothers on the first Thursday of each month at 6:30pm. Please join us in the JF room to say the Rosary\, meeting starts a 7:00pm. Email with meeting details will be sent prior to meeting
URL:http://kofc3580.org/event/council-meeting/2023-05-04/
LOCATION:Light of Christ Catholic Church\, 2176 Marilyn Street\, Clearwater\, FL\, 33765\, United States
GEO:27.9722688;-82.7476943
X-APPLE-STRUCTURED-LOCATION;VALUE=URI;X-ADDRESS=Light of Christ Catholic Church 2176 Marilyn Street Clearwater FL 33765 United States;X-APPLE-RADIUS=500;X-TITLE=2176 Marilyn Street:geo:-82.7476943,27.9722688
END:VEVENT
BEGIN:VEVENT
DTSTART;TZID=America/New_York:20230420T190000
DTEND;TZID=America/New_York:20230420T210000
DTSTAMP:20260420T032017
CREATED:20170302T181621Z
LAST-MODIFIED:20230722T151900Z
UID:10000088-1682017200-1682024400@kofc3580.org
SUMMARY:Officers Meeting
DESCRIPTION:Email with meeting details will be sent prior to meeting
URL:http://kofc3580.org/event/officers-meeting/2023-04-20/
LOCATION:Light of Christ Catholic Church\, 2176 Marilyn Street\, Clearwater\, FL\, 33765\, United States
GEO:27.9722688;-82.7476943
X-APPLE-STRUCTURED-LOCATION;VALUE=URI;X-ADDRESS=Light of Christ Catholic Church 2176 Marilyn Street Clearwater FL 33765 United States;X-APPLE-RADIUS=500;X-TITLE=2176 Marilyn Street:geo:-82.7476943,27.9722688
END:VEVENT
BEGIN:VEVENT
DTSTART;TZID=America/New_York:20230406T190000
DTEND;TZID=America/New_York:20230406T210000
DTSTAMP:20260420T032017
CREATED:20160623T115922Z
LAST-MODIFIED:20230722T151626Z
UID:10000011-1680807600-1680814800@kofc3580.org
SUMMARY:Council Meeting
DESCRIPTION:Knights\, come join your brothers on the first Thursday of each month at 6:30pm. Please join us in the JF room to say the Rosary\, meeting starts a 7:00pm. Email with meeting details will be sent prior to meeting
URL:http://kofc3580.org/event/council-meeting/2023-04-06/
LOCATION:Light of Christ Catholic Church\, 2176 Marilyn Street\, Clearwater\, FL\, 33765\, United States
GEO:27.9722688;-82.7476943
X-APPLE-STRUCTURED-LOCATION;VALUE=URI;X-ADDRESS=Light of Christ Catholic Church 2176 Marilyn Street Clearwater FL 33765 United States;X-APPLE-RADIUS=500;X-TITLE=2176 Marilyn Street:geo:-82.7476943,27.9722688
END:VEVENT
BEGIN:VEVENT
DTSTART;TZID=America/New_York:20230316T190000
DTEND;TZID=America/New_York:20230316T210000
DTSTAMP:20260420T032017
CREATED:20170302T181621Z
LAST-MODIFIED:20230722T151900Z
UID:10000087-1678993200-1679000400@kofc3580.org
SUMMARY:Officers Meeting
DESCRIPTION:Email with meeting details will be sent prior to meeting
URL:http://kofc3580.org/event/officers-meeting/2023-03-16/
LOCATION:Light of Christ Catholic Church\, 2176 Marilyn Street\, Clearwater\, FL\, 33765\, United States
GEO:27.9722688;-82.7476943
X-APPLE-STRUCTURED-LOCATION;VALUE=URI;X-ADDRESS=Light of Christ Catholic Church 2176 Marilyn Street Clearwater FL 33765 United States;X-APPLE-RADIUS=500;X-TITLE=2176 Marilyn Street:geo:-82.7476943,27.9722688
END:VEVENT
BEGIN:VEVENT
DTSTART;TZID=America/New_York:20230302T190000
DTEND;TZID=America/New_York:20230302T210000
DTSTAMP:20260420T032017
CREATED:20160623T115922Z
LAST-MODIFIED:20230722T151626Z
UID:10000010-1677783600-1677790800@kofc3580.org
SUMMARY:Council Meeting
DESCRIPTION:Knights\, come join your brothers on the first Thursday of each month at 6:30pm. Please join us in the JF room to say the Rosary\, meeting starts a 7:00pm. Email with meeting details will be sent prior to meeting
URL:http://kofc3580.org/event/council-meeting/2023-03-02/
LOCATION:Light of Christ Catholic Church\, 2176 Marilyn Street\, Clearwater\, FL\, 33765\, United States
GEO:27.9722688;-82.7476943
X-APPLE-STRUCTURED-LOCATION;VALUE=URI;X-ADDRESS=Light of Christ Catholic Church 2176 Marilyn Street Clearwater FL 33765 United States;X-APPLE-RADIUS=500;X-TITLE=2176 Marilyn Street:geo:-82.7476943,27.9722688
END:VEVENT
BEGIN:VEVENT
DTSTART;TZID=America/New_York:20230216T190000
DTEND;TZID=America/New_York:20230216T210000
DTSTAMP:20260420T032017
CREATED:20170302T181621Z
LAST-MODIFIED:20230722T151900Z
UID:10000086-1676574000-1676581200@kofc3580.org
SUMMARY:Officers Meeting
DESCRIPTION:Email with meeting details will be sent prior to meeting
URL:http://kofc3580.org/event/officers-meeting/2023-02-16/
LOCATION:Light of Christ Catholic Church\, 2176 Marilyn Street\, Clearwater\, FL\, 33765\, United States
GEO:27.9722688;-82.7476943
X-APPLE-STRUCTURED-LOCATION;VALUE=URI;X-ADDRESS=Light of Christ Catholic Church 2176 Marilyn Street Clearwater FL 33765 United States;X-APPLE-RADIUS=500;X-TITLE=2176 Marilyn Street:geo:-82.7476943,27.9722688
END:VEVENT
BEGIN:VEVENT
DTSTART;TZID=America/New_York:20230202T190000
DTEND;TZID=America/New_York:20230202T210000
DTSTAMP:20260420T032017
CREATED:20160623T115922Z
LAST-MODIFIED:20230722T151626Z
UID:10000009-1675364400-1675371600@kofc3580.org
SUMMARY:Council Meeting
DESCRIPTION:Knights\, come join your brothers on the first Thursday of each month at 6:30pm. Please join us in the JF room to say the Rosary\, meeting starts a 7:00pm. Email with meeting details will be sent prior to meeting
URL:http://kofc3580.org/event/council-meeting/2023-02-02/
LOCATION:Light of Christ Catholic Church\, 2176 Marilyn Street\, Clearwater\, FL\, 33765\, United States
GEO:27.9722688;-82.7476943
X-APPLE-STRUCTURED-LOCATION;VALUE=URI;X-ADDRESS=Light of Christ Catholic Church 2176 Marilyn Street Clearwater FL 33765 United States;X-APPLE-RADIUS=500;X-TITLE=2176 Marilyn Street:geo:-82.7476943,27.9722688
END:VEVENT
BEGIN:VEVENT
DTSTART;TZID=America/New_York:20230119T190000
DTEND;TZID=America/New_York:20230119T210000
DTSTAMP:20260420T032017
CREATED:20170302T181621Z
LAST-MODIFIED:20230722T151900Z
UID:10000085-1674154800-1674162000@kofc3580.org
SUMMARY:Officers Meeting
DESCRIPTION:Email with meeting details will be sent prior to meeting
URL:http://kofc3580.org/event/officers-meeting/2023-01-19/
LOCATION:Light of Christ Catholic Church\, 2176 Marilyn Street\, Clearwater\, FL\, 33765\, United States
GEO:27.9722688;-82.7476943
X-APPLE-STRUCTURED-LOCATION;VALUE=URI;X-ADDRESS=Light of Christ Catholic Church 2176 Marilyn Street Clearwater FL 33765 United States;X-APPLE-RADIUS=500;X-TITLE=2176 Marilyn Street:geo:-82.7476943,27.9722688
END:VEVENT
BEGIN:VEVENT
DTSTART;TZID=America/New_York:20230105T190000
DTEND;TZID=America/New_York:20230105T210000
DTSTAMP:20260420T032017
CREATED:20160623T115922Z
LAST-MODIFIED:20230722T151626Z
UID:10000008-1672945200-1672952400@kofc3580.org
SUMMARY:Council Meeting
DESCRIPTION:Knights\, come join your brothers on the first Thursday of each month at 6:30pm. Please join us in the JF room to say the Rosary\, meeting starts a 7:00pm. Email with meeting details will be sent prior to meeting
URL:http://kofc3580.org/event/council-meeting/2023-01-05/
LOCATION:Light of Christ Catholic Church\, 2176 Marilyn Street\, Clearwater\, FL\, 33765\, United States
GEO:27.9722688;-82.7476943
X-APPLE-STRUCTURED-LOCATION;VALUE=URI;X-ADDRESS=Light of Christ Catholic Church 2176 Marilyn Street Clearwater FL 33765 United States;X-APPLE-RADIUS=500;X-TITLE=2176 Marilyn Street:geo:-82.7476943,27.9722688
END:VEVENT
BEGIN:VEVENT
DTSTART;TZID=America/New_York:20221215T190000
DTEND;TZID=America/New_York:20221215T210000
DTSTAMP:20260420T032017
CREATED:20170302T181621Z
LAST-MODIFIED:20230722T151900Z
UID:10000084-1671130800-1671138000@kofc3580.org
SUMMARY:Officers Meeting
DESCRIPTION:Email with meeting details will be sent prior to meeting
URL:http://kofc3580.org/event/officers-meeting/2022-12-15/
LOCATION:Light of Christ Catholic Church\, 2176 Marilyn Street\, Clearwater\, FL\, 33765\, United States
GEO:27.9722688;-82.7476943
X-APPLE-STRUCTURED-LOCATION;VALUE=URI;X-ADDRESS=Light of Christ Catholic Church 2176 Marilyn Street Clearwater FL 33765 United States;X-APPLE-RADIUS=500;X-TITLE=2176 Marilyn Street:geo:-82.7476943,27.9722688
END:VEVENT
BEGIN:VEVENT
DTSTART;TZID=America/New_York:20221201T190000
DTEND;TZID=America/New_York:20221201T210000
DTSTAMP:20260420T032017
CREATED:20160623T115922Z
LAST-MODIFIED:20230722T151626Z
UID:10000007-1669921200-1669928400@kofc3580.org
SUMMARY:Council Meeting
DESCRIPTION:Knights\, come join your brothers on the first Thursday of each month at 6:30pm. Please join us in the JF room to say the Rosary\, meeting starts a 7:00pm. Email with meeting details will be sent prior to meeting
URL:http://kofc3580.org/event/council-meeting/2022-12-01/
LOCATION:Light of Christ Catholic Church\, 2176 Marilyn Street\, Clearwater\, FL\, 33765\, United States
GEO:27.9722688;-82.7476943
X-APPLE-STRUCTURED-LOCATION;VALUE=URI;X-ADDRESS=Light of Christ Catholic Church 2176 Marilyn Street Clearwater FL 33765 United States;X-APPLE-RADIUS=500;X-TITLE=2176 Marilyn Street:geo:-82.7476943,27.9722688
END:VEVENT
BEGIN:VEVENT
DTSTART;TZID=America/New_York:20221117T190000
DTEND;TZID=America/New_York:20221117T210000
DTSTAMP:20260420T032017
CREATED:20170302T181621Z
LAST-MODIFIED:20230722T151900Z
UID:10000083-1668711600-1668718800@kofc3580.org
SUMMARY:Officers Meeting
DESCRIPTION:Email with meeting details will be sent prior to meeting
URL:http://kofc3580.org/event/officers-meeting/2022-11-17/
LOCATION:Light of Christ Catholic Church\, 2176 Marilyn Street\, Clearwater\, FL\, 33765\, United States
GEO:27.9722688;-82.7476943
X-APPLE-STRUCTURED-LOCATION;VALUE=URI;X-ADDRESS=Light of Christ Catholic Church 2176 Marilyn Street Clearwater FL 33765 United States;X-APPLE-RADIUS=500;X-TITLE=2176 Marilyn Street:geo:-82.7476943,27.9722688
END:VEVENT
BEGIN:VEVENT
DTSTART;TZID=America/New_York:20221103T190000
DTEND;TZID=America/New_York:20221103T210000
DTSTAMP:20260420T032017
CREATED:20160623T115922Z
LAST-MODIFIED:20230722T151626Z
UID:10000006-1667502000-1667509200@kofc3580.org
SUMMARY:Council Meeting
DESCRIPTION:Knights\, come join your brothers on the first Thursday of each month at 6:30pm. Please join us in the JF room to say the Rosary\, meeting starts a 7:00pm. Email with meeting details will be sent prior to meeting
URL:http://kofc3580.org/event/council-meeting/2022-11-03/
LOCATION:Light of Christ Catholic Church\, 2176 Marilyn Street\, Clearwater\, FL\, 33765\, United States
GEO:27.9722688;-82.7476943
X-APPLE-STRUCTURED-LOCATION;VALUE=URI;X-ADDRESS=Light of Christ Catholic Church 2176 Marilyn Street Clearwater FL 33765 United States;X-APPLE-RADIUS=500;X-TITLE=2176 Marilyn Street:geo:-82.7476943,27.9722688
END:VEVENT
BEGIN:VEVENT
DTSTART;TZID=America/New_York:20221020T190000
DTEND;TZID=America/New_York:20221020T210000
DTSTAMP:20260420T032017
CREATED:20170302T181621Z
LAST-MODIFIED:20230722T151900Z
UID:10000082-1666292400-1666299600@kofc3580.org
SUMMARY:Officers Meeting
DESCRIPTION:Email with meeting details will be sent prior to meeting
URL:http://kofc3580.org/event/officers-meeting/2022-10-20/
LOCATION:Light of Christ Catholic Church\, 2176 Marilyn Street\, Clearwater\, FL\, 33765\, United States
GEO:27.9722688;-82.7476943
X-APPLE-STRUCTURED-LOCATION;VALUE=URI;X-ADDRESS=Light of Christ Catholic Church 2176 Marilyn Street Clearwater FL 33765 United States;X-APPLE-RADIUS=500;X-TITLE=2176 Marilyn Street:geo:-82.7476943,27.9722688
END:VEVENT
BEGIN:VEVENT
DTSTART;TZID=America/New_York:20221006T190000
DTEND;TZID=America/New_York:20221006T210000
DTSTAMP:20260420T032017
CREATED:20160623T115922Z
LAST-MODIFIED:20230722T151626Z
UID:10000005-1665082800-1665090000@kofc3580.org
SUMMARY:Council Meeting
DESCRIPTION:Knights\, come join your brothers on the first Thursday of each month at 6:30pm. Please join us in the JF room to say the Rosary\, meeting starts a 7:00pm. Email with meeting details will be sent prior to meeting
URL:http://kofc3580.org/event/council-meeting/2022-10-06/
LOCATION:Light of Christ Catholic Church\, 2176 Marilyn Street\, Clearwater\, FL\, 33765\, United States
GEO:27.9722688;-82.7476943
X-APPLE-STRUCTURED-LOCATION;VALUE=URI;X-ADDRESS=Light of Christ Catholic Church 2176 Marilyn Street Clearwater FL 33765 United States;X-APPLE-RADIUS=500;X-TITLE=2176 Marilyn Street:geo:-82.7476943,27.9722688
END:VEVENT
BEGIN:VEVENT
DTSTART;TZID=America/New_York:20220915T190000
DTEND;TZID=America/New_York:20220915T210000
DTSTAMP:20260420T032017
CREATED:20170302T181621Z
LAST-MODIFIED:20230722T151900Z
UID:10000081-1663268400-1663275600@kofc3580.org
SUMMARY:Officers Meeting
DESCRIPTION:Email with meeting details will be sent prior to meeting
URL:http://kofc3580.org/event/officers-meeting/2022-09-15/
LOCATION:Light of Christ Catholic Church\, 2176 Marilyn Street\, Clearwater\, FL\, 33765\, United States
GEO:27.9722688;-82.7476943
X-APPLE-STRUCTURED-LOCATION;VALUE=URI;X-ADDRESS=Light of Christ Catholic Church 2176 Marilyn Street Clearwater FL 33765 United States;X-APPLE-RADIUS=500;X-TITLE=2176 Marilyn Street:geo:-82.7476943,27.9722688
END:VEVENT
BEGIN:VEVENT
DTSTART;TZID=America/New_York:20220901T190000
DTEND;TZID=America/New_York:20220901T210000
DTSTAMP:20260420T032017
CREATED:20160623T115922Z
LAST-MODIFIED:20230722T151626Z
UID:10000004-1662058800-1662066000@kofc3580.org
SUMMARY:Council Meeting
DESCRIPTION:Knights\, come join your brothers on the first Thursday of each month at 6:30pm. Please join us in the JF room to say the Rosary\, meeting starts a 7:00pm. Email with meeting details will be sent prior to meeting
URL:http://kofc3580.org/event/council-meeting/2022-09-01/
LOCATION:Light of Christ Catholic Church\, 2176 Marilyn Street\, Clearwater\, FL\, 33765\, United States
GEO:27.9722688;-82.7476943
X-APPLE-STRUCTURED-LOCATION;VALUE=URI;X-ADDRESS=Light of Christ Catholic Church 2176 Marilyn Street Clearwater FL 33765 United States;X-APPLE-RADIUS=500;X-TITLE=2176 Marilyn Street:geo:-82.7476943,27.9722688
END:VEVENT
BEGIN:VEVENT
DTSTART;TZID=America/New_York:20220818T190000
DTEND;TZID=America/New_York:20220818T210000
DTSTAMP:20260420T032017
CREATED:20170302T181621Z
LAST-MODIFIED:20230722T151900Z
UID:10000080-1660849200-1660856400@kofc3580.org
SUMMARY:Officers Meeting
DESCRIPTION:Email with meeting details will be sent prior to meeting
URL:http://kofc3580.org/event/officers-meeting/2022-08-18/
LOCATION:Light of Christ Catholic Church\, 2176 Marilyn Street\, Clearwater\, FL\, 33765\, United States
GEO:27.9722688;-82.7476943
X-APPLE-STRUCTURED-LOCATION;VALUE=URI;X-ADDRESS=Light of Christ Catholic Church 2176 Marilyn Street Clearwater FL 33765 United States;X-APPLE-RADIUS=500;X-TITLE=2176 Marilyn Street:geo:-82.7476943,27.9722688
END:VEVENT
BEGIN:VEVENT
DTSTART;TZID=America/New_York:20220804T190000
DTEND;TZID=America/New_York:20220804T210000
DTSTAMP:20260420T032017
CREATED:20160623T115922Z
LAST-MODIFIED:20230722T151626Z
UID:10000003-1659639600-1659646800@kofc3580.org
SUMMARY:Council Meeting
DESCRIPTION:Knights\, come join your brothers on the first Thursday of each month at 6:30pm. Please join us in the JF room to say the Rosary\, meeting starts a 7:00pm. Email with meeting details will be sent prior to meeting
URL:http://kofc3580.org/event/council-meeting/2022-08-04/
LOCATION:Light of Christ Catholic Church\, 2176 Marilyn Street\, Clearwater\, FL\, 33765\, United States
GEO:27.9722688;-82.7476943
X-APPLE-STRUCTURED-LOCATION;VALUE=URI;X-ADDRESS=Light of Christ Catholic Church 2176 Marilyn Street Clearwater FL 33765 United States;X-APPLE-RADIUS=500;X-TITLE=2176 Marilyn Street:geo:-82.7476943,27.9722688
END:VEVENT
BEGIN:VEVENT
DTSTART;TZID=America/New_York:20220803T190000
DTEND;TZID=America/New_York:20220803T210000
DTSTAMP:20260420T032017
CREATED:20160623T115922Z
LAST-MODIFIED:20230722T151626Z
UID:10000002-1659553200-1659560400@kofc3580.org
SUMMARY:Council Meeting
DESCRIPTION:Knights\, come join your brothers on the first Thursday of each month at 6:30pm. Please join us in the JF room to say the Rosary\, meeting starts a 7:00pm. Email with meeting details will be sent prior to meeting
URL:http://kofc3580.org/event/council-meeting/2022-08-03/
LOCATION:Light of Christ Catholic Church\, 2176 Marilyn Street\, Clearwater\, FL\, 33765\, United States
GEO:27.9722688;-82.7476943
X-APPLE-STRUCTURED-LOCATION;VALUE=URI;X-ADDRESS=Light of Christ Catholic Church 2176 Marilyn Street Clearwater FL 33765 United States;X-APPLE-RADIUS=500;X-TITLE=2176 Marilyn Street:geo:-82.7476943,27.9722688
END:VEVENT
BEGIN:VEVENT
DTSTART;TZID=America/New_York:20220721T190000
DTEND;TZID=America/New_York:20220721T210000
DTSTAMP:20260420T032017
CREATED:20170302T181621Z
LAST-MODIFIED:20230722T151900Z
UID:10000079-1658430000-1658437200@kofc3580.org
SUMMARY:Officers Meeting
DESCRIPTION:Email with meeting details will be sent prior to meeting
URL:http://kofc3580.org/event/officers-meeting/2022-07-21/
LOCATION:Light of Christ Catholic Church\, 2176 Marilyn Street\, Clearwater\, FL\, 33765\, United States
GEO:27.9722688;-82.7476943
X-APPLE-STRUCTURED-LOCATION;VALUE=URI;X-ADDRESS=Light of Christ Catholic Church 2176 Marilyn Street Clearwater FL 33765 United States;X-APPLE-RADIUS=500;X-TITLE=2176 Marilyn Street:geo:-82.7476943,27.9722688
END:VEVENT
BEGIN:VEVENT
DTSTART;TZID=America/New_York:20220616T190000
DTEND;TZID=America/New_York:20220616T210000
DTSTAMP:20260420T032017
CREATED:20170302T181621Z
LAST-MODIFIED:20230722T151900Z
UID:10000078-1655406000-1655413200@kofc3580.org
SUMMARY:Officers Meeting
DESCRIPTION:Email with meeting details will be sent prior to meeting
URL:http://kofc3580.org/event/officers-meeting/2022-06-16/
LOCATION:Light of Christ Catholic Church\, 2176 Marilyn Street\, Clearwater\, FL\, 33765\, United States
GEO:27.9722688;-82.7476943
X-APPLE-STRUCTURED-LOCATION;VALUE=URI;X-ADDRESS=Light of Christ Catholic Church 2176 Marilyn Street Clearwater FL 33765 United States;X-APPLE-RADIUS=500;X-TITLE=2176 Marilyn Street:geo:-82.7476943,27.9722688
END:VEVENT
BEGIN:VEVENT
DTSTART;TZID=America/New_York:20220608T190000
DTEND;TZID=America/New_York:20220608T210000
DTSTAMP:20260420T032017
CREATED:20220412T190819Z
LAST-MODIFIED:20220412T190827Z
UID:10000035-1654714800-1654722000@kofc3580.org
SUMMARY:The Creed
DESCRIPTION:The Creed – In support of growing our faith at Light of Christ\, we are offering a course on the Nicene Creed. The keys that unlock the beliefs of the Christian Faith are stated succinctly in the Nicene Creed\, which we pray at every Sunday Mass. Born at the Council of Nicaea in the Fourth Century after intense debates\, this formal statement of faith is the foundation of both Eastern and Western Christianity. Please join us as we explore The Creed presented in a series of videos by Bishop Robert Barron. Session begin (Wednesday) April 27. TO REGISTER – CLICK HERE
URL:http://kofc3580.org/event/the-creed-2/2022-06-08/
LOCATION:FL
END:VEVENT
BEGIN:VEVENT
DTSTART;TZID=America/New_York:20220608T091500
DTEND;TZID=America/New_York:20220608T103000
DTSTAMP:20260420T032017
CREATED:20220412T190506Z
LAST-MODIFIED:20220412T190645Z
UID:10000026-1654679700-1654684200@kofc3580.org
SUMMARY:The Creed
DESCRIPTION:The Creed – In support of growing our faith at Light of Christ\, we are offering a course on the Nicene Creed. The keys that unlock the beliefs of the Christian Faith are stated succinctly in the Nicene Creed\, which we pray at every Sunday Mass. Born at the Council of Nicaea in the Fourth Century after intense debates\, this formal statement of faith is the foundation of both Eastern and Western Christianity. Please join us as we explore The Creed presented in a series of videos by Bishop Robert Barron. Session begin (Wednesday) April 27. TO REGISTER – CLICK HERE
URL:http://kofc3580.org/event/the-creed/2022-06-08/
LOCATION:Light of Christ Catholic Church\, 2176 Marilyn Street\, Clearwater\, FL\, 33765\, United States
GEO:27.9722688;-82.7476943
X-APPLE-STRUCTURED-LOCATION;VALUE=URI;X-ADDRESS=Light of Christ Catholic Church 2176 Marilyn Street Clearwater FL 33765 United States;X-APPLE-RADIUS=500;X-TITLE=2176 Marilyn Street:geo:-82.7476943,27.9722688
END:VEVENT
BEGIN:VEVENT
DTSTART;TZID=America/New_York:20220601T190000
DTEND;TZID=America/New_York:20220601T210000
DTSTAMP:20260420T032017
CREATED:20220412T190819Z
LAST-MODIFIED:20220412T190827Z
UID:10000034-1654110000-1654117200@kofc3580.org
SUMMARY:The Creed
DESCRIPTION:The Creed – In support of growing our faith at Light of Christ\, we are offering a course on the Nicene Creed. The keys that unlock the beliefs of the Christian Faith are stated succinctly in the Nicene Creed\, which we pray at every Sunday Mass. Born at the Council of Nicaea in the Fourth Century after intense debates\, this formal statement of faith is the foundation of both Eastern and Western Christianity. Please join us as we explore The Creed presented in a series of videos by Bishop Robert Barron. Session begin (Wednesday) April 27. TO REGISTER – CLICK HERE
URL:http://kofc3580.org/event/the-creed-2/2022-06-01/
LOCATION:FL
END:VEVENT
BEGIN:VEVENT
DTSTART;TZID=America/New_York:20220601T091500
DTEND;TZID=America/New_York:20220601T103000
DTSTAMP:20260420T032017
CREATED:20220412T190506Z
LAST-MODIFIED:20220412T190645Z
UID:10000025-1654074900-1654079400@kofc3580.org
SUMMARY:The Creed
DESCRIPTION:The Creed – In support of growing our faith at Light of Christ\, we are offering a course on the Nicene Creed. The keys that unlock the beliefs of the Christian Faith are stated succinctly in the Nicene Creed\, which we pray at every Sunday Mass. Born at the Council of Nicaea in the Fourth Century after intense debates\, this formal statement of faith is the foundation of both Eastern and Western Christianity. Please join us as we explore The Creed presented in a series of videos by Bishop Robert Barron. Session begin (Wednesday) April 27. TO REGISTER – CLICK HERE
URL:http://kofc3580.org/event/the-creed/2022-06-01/
LOCATION:Light of Christ Catholic Church\, 2176 Marilyn Street\, Clearwater\, FL\, 33765\, United States
GEO:27.9722688;-82.7476943
X-APPLE-STRUCTURED-LOCATION;VALUE=URI;X-ADDRESS=Light of Christ Catholic Church 2176 Marilyn Street Clearwater FL 33765 United States;X-APPLE-RADIUS=500;X-TITLE=2176 Marilyn Street:geo:-82.7476943,27.9722688
END:VEVENT
END:VCALENDAR