BEGIN:VCALENDAR
VERSION:2.0
PRODID:-//* - ECPv6.15.10//NONSGML v1.0//EN
CALSCALE:GREGORIAN
METHOD:PUBLISH
X-ORIGINAL-URL:http://kofc3580.org
X-WR-CALDESC:Events for *
REFRESH-INTERVAL;VALUE=DURATION:PT1H
X-Robots-Tag:noindex
X-PUBLISHED-TTL:PT1H
BEGIN:VTIMEZONE
TZID:America/New_York
BEGIN:DAYLIGHT
TZOFFSETFROM:-0500
TZOFFSETTO:-0400
TZNAME:EDT
DTSTART:20290311T070000
END:DAYLIGHT
BEGIN:STANDARD
TZOFFSETFROM:-0400
TZOFFSETTO:-0500
TZNAME:EST
DTSTART:20291104T060000
END:STANDARD
BEGIN:DAYLIGHT
TZOFFSETFROM:-0500
TZOFFSETTO:-0400
TZNAME:EDT
DTSTART:20300310T070000
END:DAYLIGHT
BEGIN:STANDARD
TZOFFSETFROM:-0400
TZOFFSETTO:-0500
TZNAME:EST
DTSTART:20301103T060000
END:STANDARD
BEGIN:DAYLIGHT
TZOFFSETFROM:-0500
TZOFFSETTO:-0400
TZNAME:EDT
DTSTART:20310309T070000
END:DAYLIGHT
BEGIN:STANDARD
TZOFFSETFROM:-0400
TZOFFSETTO:-0500
TZNAME:EST
DTSTART:20311102T060000
END:STANDARD
END:VTIMEZONE
BEGIN:VEVENT
DTSTART;TZID=America/New_York:20300103T183000
DTEND;TZID=America/New_York:20300103T203000
DTSTAMP:20260420T023714
CREATED:20250729T135250Z
LAST-MODIFIED:20250729T140301Z
UID:10000395-1893695400-1893702600@kofc3580.org
SUMMARY:Council 3580 Business Meeting
DESCRIPTION:Knights\, come join your brothers on the first Thursday of each month. Please join us at 6:30pm in the MAH rooms 3& 4 to say the Rosary\, meeting starts a 7:00pm. Email with meeting details will be sent prior to meeting.
URL:http://kofc3580.org/event/council-3580-business-metting-2/2030-01-03/
LOCATION:Light of Christ Catholic Church\, 2176 Marilyn Street\, Clearwater\, FL\, 33765\, United States
GEO:27.9722688;-82.7476943
X-APPLE-STRUCTURED-LOCATION;VALUE=URI;X-ADDRESS=Light of Christ Catholic Church 2176 Marilyn Street Clearwater FL 33765 United States;X-APPLE-RADIUS=500;X-TITLE=2176 Marilyn Street:geo:-82.7476943,27.9722688
END:VEVENT
BEGIN:VEVENT
DTSTART;TZID=America/New_York:20300117T190000
DTEND;TZID=America/New_York:20300117T203000
DTSTAMP:20260420T023714
CREATED:20250729T135846Z
LAST-MODIFIED:20250729T140053Z
UID:10000336-1894906800-1894912200@kofc3580.org
SUMMARY:Council 3580 Officers Meeting
DESCRIPTION:Offices\, we will meet on the third Thursday of each month. Please join us at 7:00pm in the MAH rooms 3& 4. Email with meeting details will be sent prior to meeting.
URL:http://kofc3580.org/event/council-3580-officers-meeting-2/2030-01-17/
LOCATION:Light of Christ Catholic Church\, 2176 Marilyn Street\, Clearwater\, FL\, 33765\, United States
GEO:27.9722688;-82.7476943
X-APPLE-STRUCTURED-LOCATION;VALUE=URI;X-ADDRESS=Light of Christ Catholic Church 2176 Marilyn Street Clearwater FL 33765 United States;X-APPLE-RADIUS=500;X-TITLE=2176 Marilyn Street:geo:-82.7476943,27.9722688
END:VEVENT
BEGIN:VEVENT
DTSTART;TZID=America/New_York:20300207T183000
DTEND;TZID=America/New_York:20300207T203000
DTSTAMP:20260420T023714
CREATED:20250729T135250Z
LAST-MODIFIED:20250729T140301Z
UID:10000396-1896719400-1896726600@kofc3580.org
SUMMARY:Council 3580 Business Meeting
DESCRIPTION:Knights\, come join your brothers on the first Thursday of each month. Please join us at 6:30pm in the MAH rooms 3& 4 to say the Rosary\, meeting starts a 7:00pm. Email with meeting details will be sent prior to meeting.
URL:http://kofc3580.org/event/council-3580-business-metting-2/2030-02-07/
LOCATION:Light of Christ Catholic Church\, 2176 Marilyn Street\, Clearwater\, FL\, 33765\, United States
GEO:27.9722688;-82.7476943
X-APPLE-STRUCTURED-LOCATION;VALUE=URI;X-ADDRESS=Light of Christ Catholic Church 2176 Marilyn Street Clearwater FL 33765 United States;X-APPLE-RADIUS=500;X-TITLE=2176 Marilyn Street:geo:-82.7476943,27.9722688
END:VEVENT
BEGIN:VEVENT
DTSTART;TZID=America/New_York:20300221T190000
DTEND;TZID=America/New_York:20300221T203000
DTSTAMP:20260420T023714
CREATED:20250729T135846Z
LAST-MODIFIED:20250729T140053Z
UID:10000337-1897930800-1897936200@kofc3580.org
SUMMARY:Council 3580 Officers Meeting
DESCRIPTION:Offices\, we will meet on the third Thursday of each month. Please join us at 7:00pm in the MAH rooms 3& 4. Email with meeting details will be sent prior to meeting.
URL:http://kofc3580.org/event/council-3580-officers-meeting-2/2030-02-21/
LOCATION:Light of Christ Catholic Church\, 2176 Marilyn Street\, Clearwater\, FL\, 33765\, United States
GEO:27.9722688;-82.7476943
X-APPLE-STRUCTURED-LOCATION;VALUE=URI;X-ADDRESS=Light of Christ Catholic Church 2176 Marilyn Street Clearwater FL 33765 United States;X-APPLE-RADIUS=500;X-TITLE=2176 Marilyn Street:geo:-82.7476943,27.9722688
END:VEVENT
BEGIN:VEVENT
DTSTART;TZID=America/New_York:20300307T183000
DTEND;TZID=America/New_York:20300307T203000
DTSTAMP:20260420T023714
CREATED:20250729T135250Z
LAST-MODIFIED:20250729T140301Z
UID:10000397-1899138600-1899145800@kofc3580.org
SUMMARY:Council 3580 Business Meeting
DESCRIPTION:Knights\, come join your brothers on the first Thursday of each month. Please join us at 6:30pm in the MAH rooms 3& 4 to say the Rosary\, meeting starts a 7:00pm. Email with meeting details will be sent prior to meeting.
URL:http://kofc3580.org/event/council-3580-business-metting-2/2030-03-07/
LOCATION:Light of Christ Catholic Church\, 2176 Marilyn Street\, Clearwater\, FL\, 33765\, United States
GEO:27.9722688;-82.7476943
X-APPLE-STRUCTURED-LOCATION;VALUE=URI;X-ADDRESS=Light of Christ Catholic Church 2176 Marilyn Street Clearwater FL 33765 United States;X-APPLE-RADIUS=500;X-TITLE=2176 Marilyn Street:geo:-82.7476943,27.9722688
END:VEVENT
BEGIN:VEVENT
DTSTART;TZID=America/New_York:20300321T190000
DTEND;TZID=America/New_York:20300321T203000
DTSTAMP:20260420T023714
CREATED:20250729T135846Z
LAST-MODIFIED:20250729T140053Z
UID:10000338-1900350000-1900355400@kofc3580.org
SUMMARY:Council 3580 Officers Meeting
DESCRIPTION:Offices\, we will meet on the third Thursday of each month. Please join us at 7:00pm in the MAH rooms 3& 4. Email with meeting details will be sent prior to meeting.
URL:http://kofc3580.org/event/council-3580-officers-meeting-2/2030-03-21/
LOCATION:Light of Christ Catholic Church\, 2176 Marilyn Street\, Clearwater\, FL\, 33765\, United States
GEO:27.9722688;-82.7476943
X-APPLE-STRUCTURED-LOCATION;VALUE=URI;X-ADDRESS=Light of Christ Catholic Church 2176 Marilyn Street Clearwater FL 33765 United States;X-APPLE-RADIUS=500;X-TITLE=2176 Marilyn Street:geo:-82.7476943,27.9722688
END:VEVENT
BEGIN:VEVENT
DTSTART;TZID=America/New_York:20300404T183000
DTEND;TZID=America/New_York:20300404T203000
DTSTAMP:20260420T023714
CREATED:20250729T135250Z
LAST-MODIFIED:20250729T140301Z
UID:10000398-1901557800-1901565000@kofc3580.org
SUMMARY:Council 3580 Business Meeting
DESCRIPTION:Knights\, come join your brothers on the first Thursday of each month. Please join us at 6:30pm in the MAH rooms 3& 4 to say the Rosary\, meeting starts a 7:00pm. Email with meeting details will be sent prior to meeting.
URL:http://kofc3580.org/event/council-3580-business-metting-2/2030-04-04/
LOCATION:Light of Christ Catholic Church\, 2176 Marilyn Street\, Clearwater\, FL\, 33765\, United States
GEO:27.9722688;-82.7476943
X-APPLE-STRUCTURED-LOCATION;VALUE=URI;X-ADDRESS=Light of Christ Catholic Church 2176 Marilyn Street Clearwater FL 33765 United States;X-APPLE-RADIUS=500;X-TITLE=2176 Marilyn Street:geo:-82.7476943,27.9722688
END:VEVENT
BEGIN:VEVENT
DTSTART;TZID=America/New_York:20300418T190000
DTEND;TZID=America/New_York:20300418T203000
DTSTAMP:20260420T023714
CREATED:20250729T135846Z
LAST-MODIFIED:20250729T140053Z
UID:10000339-1902769200-1902774600@kofc3580.org
SUMMARY:Council 3580 Officers Meeting
DESCRIPTION:Offices\, we will meet on the third Thursday of each month. Please join us at 7:00pm in the MAH rooms 3& 4. Email with meeting details will be sent prior to meeting.
URL:http://kofc3580.org/event/council-3580-officers-meeting-2/2030-04-18/
LOCATION:Light of Christ Catholic Church\, 2176 Marilyn Street\, Clearwater\, FL\, 33765\, United States
GEO:27.9722688;-82.7476943
X-APPLE-STRUCTURED-LOCATION;VALUE=URI;X-ADDRESS=Light of Christ Catholic Church 2176 Marilyn Street Clearwater FL 33765 United States;X-APPLE-RADIUS=500;X-TITLE=2176 Marilyn Street:geo:-82.7476943,27.9722688
END:VEVENT
BEGIN:VEVENT
DTSTART;TZID=America/New_York:20300502T183000
DTEND;TZID=America/New_York:20300502T203000
DTSTAMP:20260420T023714
CREATED:20250729T135250Z
LAST-MODIFIED:20250729T140301Z
UID:10000399-1903977000-1903984200@kofc3580.org
SUMMARY:Council 3580 Business Meeting
DESCRIPTION:Knights\, come join your brothers on the first Thursday of each month. Please join us at 6:30pm in the MAH rooms 3& 4 to say the Rosary\, meeting starts a 7:00pm. Email with meeting details will be sent prior to meeting.
URL:http://kofc3580.org/event/council-3580-business-metting-2/2030-05-02/
LOCATION:Light of Christ Catholic Church\, 2176 Marilyn Street\, Clearwater\, FL\, 33765\, United States
GEO:27.9722688;-82.7476943
X-APPLE-STRUCTURED-LOCATION;VALUE=URI;X-ADDRESS=Light of Christ Catholic Church 2176 Marilyn Street Clearwater FL 33765 United States;X-APPLE-RADIUS=500;X-TITLE=2176 Marilyn Street:geo:-82.7476943,27.9722688
END:VEVENT
BEGIN:VEVENT
DTSTART;TZID=America/New_York:20300516T190000
DTEND;TZID=America/New_York:20300516T203000
DTSTAMP:20260420T023714
CREATED:20250729T135846Z
LAST-MODIFIED:20250729T140053Z
UID:10000340-1905188400-1905193800@kofc3580.org
SUMMARY:Council 3580 Officers Meeting
DESCRIPTION:Offices\, we will meet on the third Thursday of each month. Please join us at 7:00pm in the MAH rooms 3& 4. Email with meeting details will be sent prior to meeting.
URL:http://kofc3580.org/event/council-3580-officers-meeting-2/2030-05-16/
LOCATION:Light of Christ Catholic Church\, 2176 Marilyn Street\, Clearwater\, FL\, 33765\, United States
GEO:27.9722688;-82.7476943
X-APPLE-STRUCTURED-LOCATION;VALUE=URI;X-ADDRESS=Light of Christ Catholic Church 2176 Marilyn Street Clearwater FL 33765 United States;X-APPLE-RADIUS=500;X-TITLE=2176 Marilyn Street:geo:-82.7476943,27.9722688
END:VEVENT
BEGIN:VEVENT
DTSTART;TZID=America/New_York:20300606T183000
DTEND;TZID=America/New_York:20300606T203000
DTSTAMP:20260420T023714
CREATED:20250729T135250Z
LAST-MODIFIED:20250729T140301Z
UID:10000400-1907001000-1907008200@kofc3580.org
SUMMARY:Council 3580 Business Meeting
DESCRIPTION:Knights\, come join your brothers on the first Thursday of each month. Please join us at 6:30pm in the MAH rooms 3& 4 to say the Rosary\, meeting starts a 7:00pm. Email with meeting details will be sent prior to meeting.
URL:http://kofc3580.org/event/council-3580-business-metting-2/2030-06-06/
LOCATION:Light of Christ Catholic Church\, 2176 Marilyn Street\, Clearwater\, FL\, 33765\, United States
GEO:27.9722688;-82.7476943
X-APPLE-STRUCTURED-LOCATION;VALUE=URI;X-ADDRESS=Light of Christ Catholic Church 2176 Marilyn Street Clearwater FL 33765 United States;X-APPLE-RADIUS=500;X-TITLE=2176 Marilyn Street:geo:-82.7476943,27.9722688
END:VEVENT
BEGIN:VEVENT
DTSTART;TZID=America/New_York:20300620T190000
DTEND;TZID=America/New_York:20300620T203000
DTSTAMP:20260420T023714
CREATED:20250729T135846Z
LAST-MODIFIED:20250729T140053Z
UID:10000341-1908212400-1908217800@kofc3580.org
SUMMARY:Council 3580 Officers Meeting
DESCRIPTION:Offices\, we will meet on the third Thursday of each month. Please join us at 7:00pm in the MAH rooms 3& 4. Email with meeting details will be sent prior to meeting.
URL:http://kofc3580.org/event/council-3580-officers-meeting-2/2030-06-20/
LOCATION:Light of Christ Catholic Church\, 2176 Marilyn Street\, Clearwater\, FL\, 33765\, United States
GEO:27.9722688;-82.7476943
X-APPLE-STRUCTURED-LOCATION;VALUE=URI;X-ADDRESS=Light of Christ Catholic Church 2176 Marilyn Street Clearwater FL 33765 United States;X-APPLE-RADIUS=500;X-TITLE=2176 Marilyn Street:geo:-82.7476943,27.9722688
END:VEVENT
BEGIN:VEVENT
DTSTART;TZID=America/New_York:20300704T183000
DTEND;TZID=America/New_York:20300704T203000
DTSTAMP:20260420T023714
CREATED:20250729T135250Z
LAST-MODIFIED:20250729T140301Z
UID:10000401-1909420200-1909427400@kofc3580.org
SUMMARY:Council 3580 Business Meeting
DESCRIPTION:Knights\, come join your brothers on the first Thursday of each month. Please join us at 6:30pm in the MAH rooms 3& 4 to say the Rosary\, meeting starts a 7:00pm. Email with meeting details will be sent prior to meeting.
URL:http://kofc3580.org/event/council-3580-business-metting-2/2030-07-04/
LOCATION:Light of Christ Catholic Church\, 2176 Marilyn Street\, Clearwater\, FL\, 33765\, United States
GEO:27.9722688;-82.7476943
X-APPLE-STRUCTURED-LOCATION;VALUE=URI;X-ADDRESS=Light of Christ Catholic Church 2176 Marilyn Street Clearwater FL 33765 United States;X-APPLE-RADIUS=500;X-TITLE=2176 Marilyn Street:geo:-82.7476943,27.9722688
END:VEVENT
BEGIN:VEVENT
DTSTART;TZID=America/New_York:20300718T190000
DTEND;TZID=America/New_York:20300718T203000
DTSTAMP:20260420T023714
CREATED:20250729T135846Z
LAST-MODIFIED:20250729T140053Z
UID:10000342-1910631600-1910637000@kofc3580.org
SUMMARY:Council 3580 Officers Meeting
DESCRIPTION:Offices\, we will meet on the third Thursday of each month. Please join us at 7:00pm in the MAH rooms 3& 4. Email with meeting details will be sent prior to meeting.
URL:http://kofc3580.org/event/council-3580-officers-meeting-2/2030-07-18/
LOCATION:Light of Christ Catholic Church\, 2176 Marilyn Street\, Clearwater\, FL\, 33765\, United States
GEO:27.9722688;-82.7476943
X-APPLE-STRUCTURED-LOCATION;VALUE=URI;X-ADDRESS=Light of Christ Catholic Church 2176 Marilyn Street Clearwater FL 33765 United States;X-APPLE-RADIUS=500;X-TITLE=2176 Marilyn Street:geo:-82.7476943,27.9722688
END:VEVENT
END:VCALENDAR