BEGIN:VCALENDAR
VERSION:2.0
PRODID:-//* - ECPv6.15.10//NONSGML v1.0//EN
CALSCALE:GREGORIAN
METHOD:PUBLISH
X-WR-CALNAME:*
X-ORIGINAL-URL:http://kofc3580.org
X-WR-CALDESC:Events for *
REFRESH-INTERVAL;VALUE=DURATION:PT1H
X-Robots-Tag:noindex
X-PUBLISHED-TTL:PT1H
BEGIN:VTIMEZONE
TZID:America/New_York
BEGIN:DAYLIGHT
TZOFFSETFROM:-0500
TZOFFSETTO:-0400
TZNAME:EDT
DTSTART:20240310T070000
END:DAYLIGHT
BEGIN:STANDARD
TZOFFSETFROM:-0400
TZOFFSETTO:-0500
TZNAME:EST
DTSTART:20241103T060000
END:STANDARD
BEGIN:DAYLIGHT
TZOFFSETFROM:-0500
TZOFFSETTO:-0400
TZNAME:EDT
DTSTART:20250309T070000
END:DAYLIGHT
BEGIN:STANDARD
TZOFFSETFROM:-0400
TZOFFSETTO:-0500
TZNAME:EST
DTSTART:20251102T060000
END:STANDARD
BEGIN:DAYLIGHT
TZOFFSETFROM:-0500
TZOFFSETTO:-0400
TZNAME:EDT
DTSTART:20260308T070000
END:DAYLIGHT
BEGIN:STANDARD
TZOFFSETFROM:-0400
TZOFFSETTO:-0500
TZNAME:EST
DTSTART:20261101T060000
END:STANDARD
END:VTIMEZONE
BEGIN:VEVENT
DTSTART;TZID=America/New_York:20251101T090000
DTEND;TZID=America/New_York:20251101T140000
DTSTAMP:20260419T170241
CREATED:20220412T194951Z
LAST-MODIFIED:20250729T135044Z
UID:10000042-1761987600-1762005600@kofc3580.org
SUMMARY:Knights of Columbus 8th Annual Car Show
DESCRIPTION:Click here to learn more about our 8th Annual Car Show on Nov 1st! \n\n\n \n\n\n\n \n2025 Car Registration Mail In Form
URL:http://kofc3580.org/event/knights-of-columbus-7th-annual-car-show/
LOCATION:St Catherine of Siena Catholic Church\, 1955 S Belcher Rd\, Clearwater\, FL\, 33764\, United States
END:VEVENT
END:VCALENDAR